BEGIN:VCALENDAR
VERSION:2.0
PRODID:-//Charleston&#039;s Fine Art Auctions - ECPv4.4.1.1//NONSGML v1.0//EN
CALSCALE:GREGORIAN
METHOD:PUBLISH
X-WR-CALNAME:Charleston&#039;s Fine Art Auctions
X-ORIGINAL-URL:https://charlestons.com.au
X-WR-CALDESC:Events for Charleston&#039;s Fine Art Auctions
BEGIN:VEVENT
DTSTART;TZID=Australia/Sydney:20180225T113000
DTEND;TZID=Australia/Sydney:20180225T170000
DTSTAMP:20180224T064113
CREATED:20180128T224818Z
LAST-MODIFIED:20180222T015623Z
UID:9191-1519558200-1519578000@charlestons.com.au
SUMMARY:Warrandyte
DESCRIPTION:HOME SOLD - CONTENTS TO BE SOLD ON-SITE\n\nStunning 5 bedroom family sanctuary on 5 acres\n\nUnder instructions from the vendors due to the recent sale of this stunning family home set on five acres\, Charleston’s Fine Art Auctions have been appointed to clear by public auction the contents of the property. Item by item will be sold on-site to the highest bidder at this public event. Auction consists of quality furnishings\, fine art and general household items.\n\nHIGHLIGHTS INCLUDE: Wilhelm and Menzel Piano\, silk base Persian Qum\, large outdoor table and chairs\, quality pool table\, Ashton drum set\, Pablo Picasso signed lithograph\, Pro Hart and Robert Dickerson paintings\, bone carvings\, decorative wall clock\,  Marc Chagall lithograph c1956\, Bronze garden sculpture\, Nomadic Persian carpets\, Matthew Johnson major work\, Collection of art deco sculptures\, Golf clubs\, Salvador Dali signed lithograph 1978\, indigenous art by Lily Kelly & Abie Loy\, large bronze Lions\, electric and acoustic guitars\, contemporary lounges\, Jade carvings\, Blackman & Olsen signed limited editions\, fine Persian Naine\, 10 seater dining table\, Bizhub 350 photocopier\, Jasper Knight major work\,  glassware\, Preston and Whiteley prints\, Davenport\, sculpture after F.Botero\, Donald Bradman and Australian Cricket memorabilia\, Sky Watcher telescope\, electric massage chair\, bedroom suite\, BBQ\, bikes\, outside entries etc….\n\nFURNISHINGS – AUSTRALIAN ART – GENERAL HOUSEHOLD – PERSIAN CARPETS – BRONZE SCULPTURES – ABORIGINAL PAINTINGS – DECORATIVE HOMEWARES – EUROPEAN ART\n\nRegister your interest below....\n\n 
URL:https://charlestons.com.au/event/warrandyte/
LOCATION:33-41 Beauty Gully Road\, Warrandyte
CATEGORIES:Home Contents Auction
ATTACH;FMTTYPE=image/jpeg:https://charlestons.com.au/wp-content/uploads/2018/01/Picture1.jpg
END:VEVENT
BEGIN:VEVENT
DTSTART;TZID=Australia/Sydney:20180225T113000
DTEND;TZID=Australia/Sydney:20180225T170000
DTSTAMP:20180224T064113
CREATED:20180219T014858Z
LAST-MODIFIED:20180220T040614Z
UID:9360-1519558200-1519578000@charlestons.com.au
SUMMARY:Newcastle
DESCRIPTION:NEWCASTLE MAJOR ART AUCTION\n\n\nImmediate Liquidation – Goods held in storage\nOne day only\, Many items unreserved!\n\nINCREDIBLE CLEARANCE of AUSTRALIAN\, ABORIGINAL & EUROPEAN ART\n\n\nBRONZE SCULPTURES & PERSIAN CARPETS\n\nATTENDING THE AUCTION\n\n \t It’s quick and easy to register online or you can register at the front desk when you arrive at the auction.\n \tArrive early to enjoy our preview from 10am.\n \tThe auction starts promptly at 11.30.am and continues for approximately 2 hours until all lots are auctioned off.\n \tSettle your winning lots at any time during or after the auction and take them home with you. Otherwise\, delivery can be arranged for your convenience.\n \tBring the whole family along. Come and enjoy the fun\, relaxed and informal atmosphere among an incredible collection of quality artworks. It’s that easy!\n\nSome of the artists Include: Pro Hart\, Robert Dickerson\, Jasper Knight\, David Bromley\, Mark Hanham\, Charles Blackman\, John Olsen\, Judy Cassab\, John Coburn\, Gillie and Marc\, Tracey Keller\, Bruce Earles\, Nick Petali\, Cheryl Cusick\, Colin Parker\, Kym Hart\, Brett Whiteley\, Norman Lindsay\, Constantine Popov\, Dean Vella\, Max Mannix\, Kristie Stenning\, Chris Pekel and more….Aboriginal: Josie Petrick\, Gabriella Possum\, Abie Loy Kemarre\, Jeannie Mills\, Gloria Petyarre\, Colleen Wallace\, Lily Kelly\, Polly Ngala\, Betty Club\, Jeannie Pitjarra\, Esther Bruno\,  Alison Riley\, Patricia Kamara\, Cindy Wallace\, Walala Tjapaltjarri\, Gracie Morton\, Janet Golder and more….European: Picasso\, Chagall\, Dali\, Renoir\, Matisse\, Miro and more….\n\nRegister your interest below….\n\n 
URL:https://charlestons.com.au/event/newcastle/
LOCATION:12 Steel Street\, Newcastle\, Australia
CATEGORIES:Fine Art Auction
ATTACH;FMTTYPE=image/jpeg:https://charlestons.com.au/wp-content/uploads/2017/12/Photo-22-1-18-8-54-21-am.jpg
END:VEVENT
BEGIN:VEVENT
DTSTART;TZID=Australia/Sydney:20180304T113000
DTEND;TZID=Australia/Sydney:20180304T170000
DTSTAMP:20180224T064113
CREATED:20180128T222542Z
LAST-MODIFIED:20180128T222802Z
UID:9183-1520163000-1520182800@charlestons.com.au
SUMMARY:Sydney
DESCRIPTION:Sydney Major Art Auction\n\n \tAUSTRALIAN\, ABORIGINAL & EUROPEAN ART\n \tBRONZE SCULPTURES\n \tPERSIAN CARPETS\n\nOne day only event with many lots unreserved!\n\nCheck back on the Wednesday prior for catalogue highlights and artist listing.\n\nRegister your interest below.....
URL:https://charlestons.com.au/event/sydney-2/
LOCATION:1 Pottery Lane\, Lane Cove
CATEGORIES:Fine Art Auction
ATTACH;FMTTYPE=image/jpeg:https://charlestons.com.au/wp-content/uploads/2017/09/Bruce-Earles-2.jpg
END:VEVENT
BEGIN:VEVENT
DTSTART;TZID=Australia/Sydney:20180312T113000
DTEND;TZID=Australia/Sydney:20180312T170000
DTSTAMP:20180224T064113
CREATED:20180128T222333Z
LAST-MODIFIED:20180128T222333Z
UID:9180-1520854200-1520874000@charlestons.com.au
SUMMARY:Adelaide
DESCRIPTION:Adelaide Public Holiday Major Art Auction\n\n \tAUSTRALIAN\, ABORIGINAL & EUROPEAN ART\n \tBRONZE SCULPTURES\n \tPERSIAN CARPETS\n\nOne day only event with many lots unreserved!\n\nCheck back on the Wednesday prior for catalogue highlights and artist listing.\n\nRegister your interest below.....
URL:https://charlestons.com.au/event/adelaide/
LOCATION:200 Jeffcott St\, North Adelaide\, SA\, Australia
CATEGORIES:Fine Art Auction
ATTACH;FMTTYPE=image/jpeg:https://charlestons.com.au/wp-content/uploads/2017/12/Photo-5-12-17-10-34-21-am.jpg
END:VEVENT
END:VCALENDAR